BEGIN:VCALENDAR
VERSION:2.0
PRODID:-//wp-events-plugin.com//7.2.3.1//EN
TZID:Europe/Warsaw
X-WR-TIMEZONE:Europe/Warsaw
BEGIN:VEVENT
UID:2-1142@pedagogiczna.pl
DTSTART;TZID=Europe/Warsaw:20260420T080000
DTEND;TZID=Europe/Warsaw:20260420T090000
DTSTAMP:20260402T095043Z
URL:https://pedagogiczna.pl/events/roznimy-sie-skrzydlami-o-mocy-slow/
SUMMARY:Różnimy się skrzydłami ...o mocy słów
DESCRIPTION:Miejsce: PBW w Opolu\, ul. Kościuszki 14\nForma: zajęcia czyt
 elnicze z elementami biblioterapii\nUczestnicy: PSP w Jankowicach Wielkich
END:VEVENT
BEGIN:VTIMEZONE
TZID:Europe/Warsaw
X-LIC-LOCATION:Europe/Warsaw
BEGIN:DAYLIGHT
DTSTART:20260329T030000
TZOFFSETFROM:+0100
TZOFFSETTO:+0200
TZNAME:CEST
END:DAYLIGHT
END:VTIMEZONE
END:VCALENDAR