BEGIN:VCALENDAR
VERSION:2.0
PRODID:-//wp-events-plugin.com//7.2.3.1//EN
TZID:Europe/Warsaw
X-WR-TIMEZONE:Europe/Warsaw
BEGIN:VEVENT
UID:2-1140@pedagogiczna.pl
DTSTART;TZID=Europe/Warsaw:20260429T190000
DTEND;TZID=Europe/Warsaw:20260429T200000
DTSTAMP:20260402T094732Z
URL:https://pedagogiczna.pl/events/ogolnopolska-siec-wspolpracy-i-samokszt
 alcenia-biblioterapia-szyta-na-miare/
SUMMARY:Ogólnopolska Sieć Współpracy i Samokształcenia "Biblioterapia 
 szyta na miarę"
DESCRIPTION:Forma: konsultacje (online)
END:VEVENT
BEGIN:VTIMEZONE
TZID:Europe/Warsaw
X-LIC-LOCATION:Europe/Warsaw
BEGIN:DAYLIGHT
DTSTART:20260329T030000
TZOFFSETFROM:+0100
TZOFFSETTO:+0200
TZNAME:CEST
END:DAYLIGHT
END:VTIMEZONE
END:VCALENDAR