BEGIN:VCALENDAR
VERSION:2.0
PRODID:-//wp-events-plugin.com//7.2.3.1//EN
TZID:Europe/Warsaw
X-WR-TIMEZONE:Europe/Warsaw
BEGIN:VEVENT
UID:2-1097@pedagogiczna.pl
DTSTART;TZID=Europe/Warsaw:20260420T000000
DTEND;TZID=Europe/Warsaw:20260420T000000
DTSTAMP:20260402T090022Z
URL:https://pedagogiczna.pl/events/magia-splotow-wystawa-rekodziela-byczyn
 skich-dziewiarek/
SUMMARY:„Magia splotów” – wystawa rękodzieła byczyńskich dziewiar
 ek
DESCRIPTION:Miejsce: OCE PBW Filia w Kluczborku\, ul. K. Miarki 2\nForma: w
 ystawa\nCzas trwania: 20.04-15.05.2026 r.
END:VEVENT
BEGIN:VTIMEZONE
TZID:Europe/Warsaw
X-LIC-LOCATION:Europe/Warsaw
BEGIN:DAYLIGHT
DTSTART:20260329T030000
TZOFFSETFROM:+0100
TZOFFSETTO:+0200
TZNAME:CEST
END:DAYLIGHT
END:VTIMEZONE
END:VCALENDAR