BEGIN:VCALENDAR
VERSION:2.0
PRODID:-//wp-events-plugin.com//7.2.3.1//EN
TZID:Europe/Warsaw
X-WR-TIMEZONE:Europe/Warsaw
BEGIN:VEVENT
UID:2-1141@pedagogiczna.pl
DTSTART;TZID=Europe/Warsaw:20260416T000000
DTEND;TZID=Europe/Warsaw:20260416T000000
DTSTAMP:20260402T094921Z
URL:https://pedagogiczna.pl/events/literackie-czwartki-poczytalnia-dobrych
 -mysli/
SUMMARY:Literackie czwartki: Poczytalnia Dobrych Myśli
DESCRIPTION:Miejsce: PBW w Opolu\, ul. Kościuszki 14\nForma: zajęcia czyt
 elnicze z elementami biblioterapii\nUczestnicy: PP nr 42 w Opolu
END:VEVENT
BEGIN:VTIMEZONE
TZID:Europe/Warsaw
X-LIC-LOCATION:Europe/Warsaw
BEGIN:DAYLIGHT
DTSTART:20260329T030000
TZOFFSETFROM:+0100
TZOFFSETTO:+0200
TZNAME:CEST
END:DAYLIGHT
END:VTIMEZONE
END:VCALENDAR