BEGIN:VCALENDAR
VERSION:2.0
PRODID:-//wp-events-plugin.com//7.2.3.1//EN
TZID:Europe/Warsaw
X-WR-TIMEZONE:Europe/Warsaw
BEGIN:VEVENT
UID:2-1145@pedagogiczna.pl
DTSTART;TZID=Europe/Warsaw:20260427T000000
DTEND;TZID=Europe/Warsaw:20260427T000000
DTSTAMP:20260421T104822Z
URL:https://pedagogiczna.pl/events/krolestwo-ksiazek/
SUMMARY:Królestwo książek
DESCRIPTION:Miejsce: OCE PBW Filia w Nysie\, ul. Kościuszki 10\nForma: zaj
 ęcia czytelnicze\nUczestnicy: Dzieci z Przedszkola Smerf w Nysie\, grupa 
 5-6 latki
END:VEVENT
BEGIN:VTIMEZONE
TZID:Europe/Warsaw
X-LIC-LOCATION:Europe/Warsaw
BEGIN:DAYLIGHT
DTSTART:20260329T030000
TZOFFSETFROM:+0100
TZOFFSETTO:+0200
TZNAME:CEST
END:DAYLIGHT
END:VTIMEZONE
END:VCALENDAR