BEGIN:VCALENDAR
VERSION:2.0
PRODID:-//wp-events-plugin.com//7.2.3.1//EN
TZID:Europe/Warsaw
X-WR-TIMEZONE:Europe/Warsaw
BEGIN:VEVENT
UID:2-1104@pedagogiczna.pl
DTSTART;TZID=Europe/Warsaw:20260422T110000
DTEND;TZID=Europe/Warsaw:20260422T123000
DTSTAMP:20260402T090906Z
URL:https://pedagogiczna.pl/events/kreatywne-myslenie-kreatywne-pisanie-2/
SUMMARY:Kreatywne myślenie\, kreatywne pisanie
DESCRIPTION:Miejsce: OCE PBW Filia w Kluczborku\, ul. K. Miarki 2\nForma: z
 ajęcia czytelnicze\nUczestnicy: Uczniowie szkoły ponadpodstawowej / ZSL-
 T w Kluczborku
END:VEVENT
BEGIN:VTIMEZONE
TZID:Europe/Warsaw
X-LIC-LOCATION:Europe/Warsaw
BEGIN:DAYLIGHT
DTSTART:20260329T030000
TZOFFSETFROM:+0100
TZOFFSETTO:+0200
TZNAME:CEST
END:DAYLIGHT
END:VTIMEZONE
END:VCALENDAR