BEGIN:VCALENDAR
VERSION:2.0
PRODID:-//wp-events-plugin.com//7.2.3.1//EN
TZID:Europe/Warsaw
X-WR-TIMEZONE:Europe/Warsaw
BEGIN:VEVENT
UID:2-1131@pedagogiczna.pl
DTSTART;TZID=Europe/Warsaw:20260413T190000
DTEND;TZID=Europe/Warsaw:20260413T200000
DTSTAMP:20260402T095245Z
URL:https://pedagogiczna.pl/events/jak-sie-klocic-z-bliskimi-i-nie-stracic
 -bliskosci/
SUMMARY:Jak się kłócić z bliskimi i nie stracić bliskości?
DESCRIPTION:Forma: wykład (online) - dr Elżbieta  Zubrzycka
END:VEVENT
BEGIN:VTIMEZONE
TZID:Europe/Warsaw
X-LIC-LOCATION:Europe/Warsaw
BEGIN:DAYLIGHT
DTSTART:20260329T030000
TZOFFSETFROM:+0100
TZOFFSETTO:+0200
TZNAME:CEST
END:DAYLIGHT
END:VTIMEZONE
END:VCALENDAR