BEGIN:VCALENDAR
VERSION:2.0
PRODID:-//wp-events-plugin.com//7.2.3.1//EN
TZID:Europe/Warsaw
X-WR-TIMEZONE:Europe/Warsaw
BEGIN:VEVENT
UID:2-995@pedagogiczna.pl
DTSTART;TZID=Europe/Warsaw:20260226T080000
DTEND;TZID=Europe/Warsaw:20260226T103000
DTSTAMP:20260224T091639Z
URL:https://pedagogiczna.pl/events/jak-reagowac-na-przemoc-rozpoznaj-zarea
 guj-zatrzymaj/
SUMMARY:Jak reagować na przemoc? Rozpoznaj\, zareaguj\, zatrzymaj
DESCRIPTION:Miejsce: PSP nr 3 w Grodkowie\nForma: zajęcia czytelnicze z el
 ementami biblioterapii
END:VEVENT
BEGIN:VTIMEZONE
TZID:Europe/Warsaw
X-LIC-LOCATION:Europe/Warsaw
BEGIN:STANDARD
DTSTART:20251026T020000
TZOFFSETFROM:+0200
TZOFFSETTO:+0100
TZNAME:CET
END:STANDARD
END:VTIMEZONE
END:VCALENDAR