BEGIN:VCALENDAR
VERSION:2.0
PRODID:-//wp-events-plugin.com//7.2.3.1//EN
TZID:Europe/Warsaw
X-WR-TIMEZONE:Europe/Warsaw
BEGIN:VEVENT
UID:2-228@pedagogiczna.pl
DTSTART;TZID=Europe/Warsaw:20250130T080000
DTEND;TZID=Europe/Warsaw:20250130T093000
DTSTAMP:20250107T101559Z
URL:https://pedagogiczna.pl/events/bajeczne-mikstury-na-rozne-problemy-spo
 tkanie-z-nieznajomym-4/
SUMMARY:„Bajeczne mikstury na różne problemy” – Spotkanie z nieznaj
 omym
DESCRIPTION:Miejsce: OCE PBW Filia w Kluczborku\, ul. K. Miarki 2\nForma: Z
 ajęcia czytelnicze z elementami biblioterapii\nUczestnicy: Uczniowie szko
 ły podstawowej / PSP nr 5 z OI w Kluczborku
END:VEVENT
BEGIN:VTIMEZONE
TZID:Europe/Warsaw
X-LIC-LOCATION:Europe/Warsaw
BEGIN:STANDARD
DTSTART:20241027T020000
TZOFFSETFROM:+0200
TZOFFSETTO:+0100
TZNAME:CET
END:STANDARD
END:VTIMEZONE
END:VCALENDAR