BEGIN:VCALENDAR
VERSION:2.0
PRODID:-//wp-events-plugin.com//7.2.3.1//EN
TZID:Europe/Warsaw
X-WR-TIMEZONE:Europe/Warsaw
BEGIN:VEVENT
UID:2-1099@pedagogiczna.pl
DTSTART;TZID=Europe/Warsaw:20260410T100000
DTEND;TZID=Europe/Warsaw:20260410T113000
DTSTAMP:20260402T090308Z
URL:https://pedagogiczna.pl/events/bajeczne-mikstury-na-rozne-problemy-cza
 rodziejskie-imiona/
SUMMARY:„Bajeczne mikstury na różne problemy” – Czarodziejskie imio
 na
DESCRIPTION:Miejsce: OCE PBW Filia w Kluczborku\, ul. K. Miarki 2\nForma: Z
 ajęcia czytelnicze z elementami biblioterapii\nUczestnicy: Grupa przedsz
 kolna / NP „Tęczowa Dolina” w Kluczborku
END:VEVENT
BEGIN:VTIMEZONE
TZID:Europe/Warsaw
X-LIC-LOCATION:Europe/Warsaw
BEGIN:DAYLIGHT
DTSTART:20260329T030000
TZOFFSETFROM:+0100
TZOFFSETTO:+0200
TZNAME:CEST
END:DAYLIGHT
END:VTIMEZONE
END:VCALENDAR