BEGIN:VCALENDAR
VERSION:2.0
PRODID:-//wp-events-plugin.com//7.2.3.1//EN
TZID:Europe/Warsaw
X-WR-TIMEZONE:Europe/Warsaw
BEGIN:VEVENT
UID:2-1109@pedagogiczna.pl
DTSTART;TZID=Europe/Warsaw:20260415T190000
DTEND;TZID=Europe/Warsaw:20260415T200000
DTSTAMP:20260402T101602Z
URL:https://pedagogiczna.pl/events/architektura-duszy-dlaczego-we-wspolcze
 snym-swiecie-musimy-zalogowac-sie-do-literatury/
SUMMARY:Architektura Duszy – Dlaczego we współczesnym świecie musimy 
 „zalogować się” do literatury
DESCRIPTION:&nbsp\;\n\nhttps://pedagogiczna.pl/zaloguj-sie-do-literatury-no
 woczesna-biblioterapia-w-swiecie-ekranow-cykl-wykladow-online/\n\n&nbsp\;\
 n\n&nbsp\;\n\n&nbsp\;
END:VEVENT
BEGIN:VTIMEZONE
TZID:Europe/Warsaw
X-LIC-LOCATION:Europe/Warsaw
BEGIN:DAYLIGHT
DTSTART:20260329T030000
TZOFFSETFROM:+0100
TZOFFSETTO:+0200
TZNAME:CEST
END:DAYLIGHT
END:VTIMEZONE
END:VCALENDAR