BEGIN:VCALENDAR
VERSION:2.0
PRODID:-//wp-events-plugin.com//7.2.3.1//EN
TZID:Europe/Warsaw
X-WR-TIMEZONE:Europe/Warsaw
BEGIN:VEVENT
UID:2-1096@pedagogiczna.pl
DTSTART;TZID=Europe/Warsaw:20260420T000000
DTEND;TZID=Europe/Warsaw:20260420T000000
DTSTAMP:20260402T080559Z
URL:https://pedagogiczna.pl/events/21-kwietnia-swiatowy-dzien-kreatywnosci
 -i-innowacji/
SUMMARY:21 kwietnia - Światowy Dzień Kreatywności i Innowacji
DESCRIPTION:Miejsce: OCE PBW Filia w Kluczborku\, ul. K. Miarki 2\nForma: w
 ystawa\nCzas trwania: 20-30.04.2026 r.\, w godzinach pracy biblioteki
END:VEVENT
BEGIN:VTIMEZONE
TZID:Europe/Warsaw
X-LIC-LOCATION:Europe/Warsaw
BEGIN:DAYLIGHT
DTSTART:20260329T030000
TZOFFSETFROM:+0100
TZOFFSETTO:+0200
TZNAME:CEST
END:DAYLIGHT
END:VTIMEZONE
END:VCALENDAR