BEGIN:VCALENDAR
VERSION:2.0
PRODID:-//wp-events-plugin.com//7.2.3.1//EN
TZID:Europe/Warsaw
X-WR-TIMEZONE:Europe/Warsaw
BEGIN:VEVENT
UID:2-1095@pedagogiczna.pl
DTSTART;TZID=Europe/Warsaw:20260401T000000
DTEND;TZID=Europe/Warsaw:20260401T000000
DTSTAMP:20260402T080448Z
URL:https://pedagogiczna.pl/events/2-kwietnia-swiatowy-dzien-swiadomosci-a
 utyzmu/
SUMMARY:2 kwietnia – Światowy Dzień Świadomości Autyzmu
DESCRIPTION:Miejsce: OCE PBW Filia w Kluczborku\, ul. K. Miarki 2\nForma: w
 ystawa\nCzas trwania: 1-17.04.2026 r.\, w godzinach pracy biblioteki
END:VEVENT
BEGIN:VTIMEZONE
TZID:Europe/Warsaw
X-LIC-LOCATION:Europe/Warsaw
BEGIN:DAYLIGHT
DTSTART:20260329T030000
TZOFFSETFROM:+0100
TZOFFSETTO:+0200
TZNAME:CEST
END:DAYLIGHT
END:VTIMEZONE
END:VCALENDAR